{"text_format":"1","workbook":"xlsx","n_sheets":1,"sheets":["Sheet1"],"not_rendered":{"charts":34,"images":0,"macros":1,"external_links":0,"defined_names":34,"comments":0,"pivot_tables":0},"unopened":[],"bounds":{"document_bytes":16777216,"sheet_cells":100000,"rows_first":2000,"rows_last":500,"rows_between":2000,"halvings":0,"cell_chars":16384,"cell_head_chars":4096},"cells_cut":0,"cells_raw":0,"read":"whole","date_system":"1900"}

{"sheet":"Sheet1","index":0,"n_rows":584,"n_cols":7,"rows_kept":584,"cut":false,"hidden":false,"merged":[[525,1,525,2],[542,1,542,2],[559,1,559,2],[576,1,576,2],[440,1,440,2],[457,1,457,2],[474,1,474,2],[491,1,491,2],[508,1,508,2],[355,1,355,2],[372,1,372,2],[389,1,389,2],[406,1,406,2],[423,1,423,2],[270,1,270,2],[287,1,287,2],[304,1,304,2],[321,1,321,2],[338,1,338,2],[185,1,185,2],[202,1,202,2],[219,1,219,2],[236,1,236,2],[253,1,253,2],[100,1,100,2],[117,1,117,2],[134,1,134,2],[151,1,151,2],[168,1,168,2],[15,1,15,2],[32,1,32,2],[49,1,49,2],[66,1,66,2],[83,1,83,2]]}
[]
["Session Name"]
["Merged Sessions 2-3-2016, 2-50 PM"]
[]
["Date Created",null,"Active Participants",null,"Total Participants"]
["2016-02-03T14:51:08",null,20,null,20]
[]
["Average Score",null,"Questions"]
[0,null,34]
[]
[]
["Results by Question"]
[]
["1. How would your family describe the man telling you about the questions?",null,null,null,null,null,"1. How would your family describe the man telling you about the questions?"]
[]
[null,"Responses"]
[null,"Percent","Count"]
["a. He is too tall.",0,0]
["b. He is too short.",0.10000000149011612,2]
["c. He speaks Spanish very good for an American.",0.44999998807907104,9]
["d. He is kind.",0.44999998807907104,9]
["e. He seems nervous.",0,0]
["Totals",{"$f":"SUM(Sheet1!$B$18:$B$22)","v":0.99999997764825821},{"$f":"SUM(Sheet1!$C$18:$C$22)","v":20}]
[]
[]
[]
[]
[]
[]
[]
["2. How would your family describe the woman also telling you about the questions?",null,null,null,null,null,"2. How would your family describe the woman also telling you about the questions?"]
[]
[null,"Responses"]
[null,"Percent","Count"]
["a. She is too tall.",0,0]
["b. She is too short.",0,0]
["c. She speaks Spanish very good for an American.",0.10000000149011612,2]
["d. She is kind.",0.89999997615814209,18]
["e. She seems nervous.",0,0]
["Totals",{"$f":"SUM(Sheet1!$B$35:$B$39)","v":0.99999997764825821},{"$f":"SUM(Sheet1!$C$35:$C$39)","v":20}]
[]
[]
[]
[]
[]
[]
[]
["3. How do you feel about taking this survey?",null,null,null,null,null,"3. How do you feel about taking this survey?"]
[]
[null,"Responses"]
[null,"Percent","Count"]
["a. Very nervous.",0,0]
["b. A small amount of nervousness.",0.15000000596046448,3]
["c. Not nervous at all.",0,0]
["d. Happy.",0.44999998807907104,9]
["e. Very happy.",0.40000000596046448,8]
["Totals",{"$f":"SUM(Sheet1!$B$52:$B$56)","v":1},{"$f":"SUM(Sheet1!$C$52:$C$56)","v":20}]
[]
[]
[]
[]
[]
[]
[]
["4. How large is your family? How many individuals are home at dinnertime?",null,null,null,null,null,"4. How large is your family? How many individuals are home at dinnertime?"]
[]
[null,"Responses"]
[null,"Percent","Count"]
["a. Less than 5 people.",0.40000000596046448,8]
["b. 5 people.",5.000000074505806E-2,1]
["c. 6 people.",0.10000000149011612,2]
["a. 7 people.",0.20000000298023224,4]
["e. More than 7 people.",0.25,5]
["Totals",{"$f":"SUM(Sheet1!$B$69:$B$73)","v":1.0000000111758709},{"$f":"SUM(Sheet1!$C$69:$C$73)","v":20}]
[]
[]
[]
[]
[]
[]
[]
["5. How many children (less than 10 years old) are at home for dinner?",null,null,null,null,null,"5. How many children (less than 10 years old) are at home for dinner?"]
[]
[null,"Responses"]
[null,"Percent","Count"]
["a. No children.",5.000000074505806E-2,1]
["b. 1 child.",0.30000001192092896,6]
["c. 2 children. ",0.5,10]
["d. 3 children.",0.10000000149011612,2]
["e. 4 children or more.",5.000000074505806E-2,1]
["Totals",{"$f":"SUM(Sheet1!$B$86:$B$90)","v":1.0000000149011612},{"$f":"SUM(Sheet1!$C$86:$C$90)","v":20}]
[]
[]
[]
[]
[]
[]
[]
["6. How many fishermen are there in your family?",null,null,null,null,null,"6. How many fishermen are there in your family?"]
[]
[null,"Responses"]
[null,"Percent","Count"]
["a. None.",5.000000074505806E-2,1]
["b. 1",0.44999998807907104,9]
["c. 2",0.30000001192092896,6]
["d. 3",5.000000074505806E-2,1]
["e. More than 3.",0.15000000596046448,3]
["Totals",{"$f":"SUM(Sheet1!$B$103:$B$107)","v":1.0000000074505806},{"$f":"SUM(Sheet1!$C$103:$C$107)","v":20}]
[]
[]
[]
[]
[]
[]
[]
["7. Do they fish for the family only or for selling to the market?",null,null,null,null,null,"7. Do they fish for the family only or for selling to the market?"]
[]
[null,"Responses"]
[null,"Percent","Count"]
["a. Enough for family only.",5.000000074505806E-2,1]
["b. Enough for market only.",0.15000000596046448,3]
["c. Enough for family and market.",0.30000001192092896,6]
["d. Not enough fish for both market and family.",0.5,10]
["e. No fisherman in family.",0,0]
["Totals",{"$f":"SUM(Sheet1!$B$120:$B$124)","v":1.0000000186264515},{"$f":"SUM(Sheet1!$C$120:$C$124)","v":20}]
[]
[]
[]
[]
[]
[]
[]
["8. What fishing gear do they use?",null,null,null,null,null,"8. What fishing gear do they use?"]
[]
[null,"Responses"]
[null,"Percent","Count"]
["a. Long line.",0,0]
["b. Hand line.",0,0]
["c. Spears.",5.000000074505806E-2,1]
["d. Nets.",0.94999998807907104,19]
["e. No fisherman in family.",0,0]
["Totals",{"$f":"SUM(Sheet1!$B$137:$B$141)","v":0.9999999888241291},{"$f":"SUM(Sheet1!$C$137:$C$141)","v":20}]
[]
[]
[]
[]
[]
[]
[]
["9. How much time is spent each day fishing?",null,null,null,null,null,"9. How much time is spent each day fishing?"]
[]
[null,"Responses"]
[null,"Percent","Count"]
["a. 1 hour or less.",0,0]
["b. 1-2 hours.",0,0]
["c. 2-4 hours.",0.10000000149011612,2]
["d. More than 4 hours.",0.89999997615814209,18]
["e. No fisherman in family.",0,0]
["Totals",{"$f":"SUM(Sheet1!$B$154:$B$158)","v":0.99999997764825821},{"$f":"SUM(Sheet1!$C$154:$C$158)","v":20}]
[]
[]
[]
[]
[]
[]
[]
["10. Is this more or less time spent than 5 years ago?",null,null,null,null,null,"10. Is this more or less time spent than 5 years ago?"]
[]
[null,"Responses"]
[null,"Percent","Count"]
["a. Spending more time fishing.",1,20]
["b. Spending the same time fishing.",0,0]
["c. Spending less time fishing.",0,0]
["d. No longer fishing.",0,0]
["e. No fishermen in family.",0,0]
["Totals",{"$f":"SUM(Sheet1!$B$171:$B$175)","v":1},{"$f":"SUM(Sheet1!$C$171:$C$175)","v":20}]
[]
[]
[]
[]
[]
[]
[]
["11. How often does the family eat seafood?",null,null,null,null,null,"11. How often does the family eat seafood?"]
[]
[null,"Responses"]
[null,"Percent","Count"]
["a. Every day.",0.20000000298023224,4]
["2-3 veces por semana.",0.5,10]
["1 vez por semana.",0.25,5]
["1-2 veces por mes.",5.000000074505806E-2,1]
["No comemos pescado.",0,0]
["Totals",{"$f":"SUM(Sheet1!$B$188:$B$192)","v":1.0000000037252903},{"$f":"SUM(Sheet1!$C$188:$C$192)","v":20}]
[]
[]
[]
[]
[]
[]
[]
["12. Which is the most common type of seafood for your family meal?",null,null,null,null,null,"12. Which is the most common type of seafood for your family meal?"]
[]
[null,"Responses"]
[null,"Percent","Count"]
["a. Finfish",0.94999998807907104,19]
["b. Shellfish (mussels, oysters).",0,0]
["c. Invertebrates (shrimp, lobster, crab).",5.000000074505806E-2,1]
["d. Canned fish or seafood.",0,0]
["e. Any other seafood.",0,0]
["Totals",{"$f":"SUM(Sheet1!$B$205:$B$209)","v":0.9999999888241291},{"$f":"SUM(Sheet1!$C$205:$C$209)","v":20}]
[]
[]
[]
[]
[]
[]
[]
["13. How often do you buy seafood in the market?",null,null,null,null,null,"13. How often do you buy seafood in the market?"]
[]
[null,"Responses"]
[null,"Percent","Count"]
["a. Every day.",5.000000074505806E-2,1]
["b. 2 – 3 times per week.",0.25,5]
["c. 1 time per week.",0.20000000298023224,4]
["d. 1 – 2 times per month.",0.30000001192092896,6]
["e. Never buy fish from market.",0.20000000298023224,4]
["Totals",{"$f":"SUM(Sheet1!$B$222:$B$226)","v":1.0000000186264515},{"$f":"SUM(Sheet1!$C$222:$C$226)","v":20}]
[]
[]
[]
[]
[]
[]
[]
["14. The ocean provides enough food for your family.",null,null,null,null,null,"14. The ocean provides enough food for your family."]
[]
[null,"Responses"]
[null,"Percent","Count"]
["a. Strongly agree",0.10000000149011612,2]
["b. Agree",0.10000000149011612,2]
["c. Unsure",0.55000001192092896,11]
["d. Disagree",0.15000000596046448,3]
["e. Strongly disagree.",0.10000000149011612,2]
["Totals",{"$f":"SUM(Sheet1!$B$239:$B$243)","v":1.0000000223517418},{"$f":"SUM(Sheet1!$C$239:$C$243)","v":20}]
[]
[]
[]
[]
[]
[]
[]
["15.  There is a future for fishermen in our community.",null,null,null,null,null,"15.  There is a future for fishermen in our community."]
[]
[null,"Responses"]
[null,"Percent","Count"]
["a. Strongly agree",5.000000074505806E-2,1]
["b. Agree",0,0]
["c. Unsure",0.94999998807907104,19]
["d. Disagree",0,0]
["e. Strongly disagree.",0,0]
["Totals",{"$f":"SUM(Sheet1!$B$256:$B$260)","v":0.9999999888241291},{"$f":"SUM(Sheet1!$C$256:$C$260)","v":20}]
[]
[]
[]
[]
[]
[]
[]
["16.  Contamination has damaged our fisheries.",null,null,null,null,null,"16.  Contamination has damaged our fisheries."]
[]
[null,"Responses"]
[null,"Percent","Count"]
["a. Strongly agree",0.80000001192092896,16]
["b. Agree",0.15000000596046448,3]
["c. Unsure",5.000000074505806E-2,1]
["d. Disagree",0,0]
["e. Strongly disagree.",0,0]
["Totals",{"$f":"SUM(Sheet1!$B$273:$B$277)","v":1.0000000186264515},{"$f":"SUM(Sheet1!$C$273:$C$277)","v":20}]
[]
[]
[]
[]
[]
[]
[]
["17. There is less seafood in our waters.",null,null,null,null,null,"17. There is less seafood in our waters."]
[]
[null,"Responses"]
[null,"Percent","Count"]
["a. Strongly agree",0.89999997615814209,18]
["b. Agree",5.000000074505806E-2,1]
["c. Unsure",0,0]
["d. Disagree",5.000000074505806E-2,1]
["e. Strongly disagree.",0,0]
["Totals",{"$f":"SUM(Sheet1!$B$290:$B$294)","v":0.99999997764825821},{"$f":"SUM(Sheet1!$C$290:$C$294)","v":20}]
[]
[]
[]
[]
[]
[]
[]
["18. Aquaculture farms are a good way to provide seafood.",null,null,null,null,null,"18. Aquaculture farms are a good way to provide seafood."]
[]
[null,"Responses"]
[null,"Percent","Count"]
["a. Strongly agree",0.69999998807907104,14]
["b. Agree",5.000000074505806E-2,1]
["c. Unsure",0.15000000596046448,3]
["d. Disagree",0.10000000149011612,2]
["e. Strongly disagree",0,0]
["Totals",{"$f":"SUM(Sheet1!$B$307:$B$311)","v":0.9999999962747097},{"$f":"SUM(Sheet1!$C$307:$C$311)","v":20}]
[]
[]
[]
[]
[]
[]
[]
["19. Which is the best type aquaculture to help your community?",null,null,null,null,null,"19. Which is the best type aquaculture to help your community?"]
[]
[null,"Responses"]
[null,"Percent","Count"]
["a. Shellfish (mussels, oysters)",0,0]
["b. Finfish (Tilapia)",0.20000000298023224,4]
["c. Invertebrates (crawfish, shrimp)",0.64999997615814209,13]
["d. More than one type.",0.15000000596046448,3]
["e. There should not be any aquaculture",0,0]
["Totals",{"$f":"SUM(Sheet1!$B$324:$B$328)","v":0.99999998509883881},{"$f":"SUM(Sheet1!$C$324:$C$328)","v":20}]
[]
[]
[]
[]
[]
[]
[]
["20. The availably of aquaculture products would improve the diet of my family.",null,null,null,null,null,"20. The availably of aquaculture products would improve the diet of my family."]
[]
[null,"Responses"]
[null,"Percent","Count"]
["a. Strongly agree",0.64999997615814209,13]
["b. Agree",0.30000001192092896,6]
["c. Unsure",5.000000074505806E-2,1]
["d. Disagree",0,0]
["e. Strongly disagree.",0,0]
["Totals",{"$f":"SUM(Sheet1!$B$341:$B$345)","v":0.9999999888241291},{"$f":"SUM(Sheet1!$C$341:$C$345)","v":20}]
[]
[]
[]
[]
[]
[]
[]
["21. The availably of aquaculture products would improve the diet of tourists in town.",null,null,null,null,null,"21. The availably of aquaculture products would improve the diet of tourists in town."]
[]
[null,"Responses"]
[null,"Percent","Count"]
["a. Strongly agree",0.60000002384185791,12]
["b. Agree",0.25,5]
["c. Unsure",0.10000000149011612,2]
["d. Disagree",5.000000074505806E-2,1]
["e. Strongly disagree.",0,0]
["Totals",{"$f":"SUM(Sheet1!$B$358:$B$362)","v":1.0000000260770321},{"$f":"SUM(Sheet1!$C$358:$C$362)","v":20}]
[]
[]
[]
[]
[]
[]
[]
["22. The availably of aquaculture products will reduce the quality of my family’s life.",null,null,null,null,null,"22. The availably of aquaculture products will reduce the quality of my family’s life."]
[]
[null,"Responses"]
[null,"Percent","Count"]
["a. Strongly agree",0.15000000596046448,3]
["b. Agree",0.15000000596046448,3]
["c. Unsure",0.34999999403953552,7]
["d. Disagree",0.20000000298023224,4]
["e. Strongly disagree.",0.15000000596046448,3]
["Totals",{"$f":"SUM(Sheet1!$B$375:$B$379)","v":1.0000000149011612},{"$f":"SUM(Sheet1!$C$375:$C$379)","v":20}]
[]
[]
[]
[]
[]
[]
[]
["23. When I think of the sea I feel better.",null,null,null,null,null,"23. When I think of the sea I feel better."]
[]
[null,"Responses"]
[null,"Percent","Count"]
["a. Strongly agree",0.89999997615814209,18]
["b. Agree",0.10000000149011612,2]
["c. Unsure",0,0]
["d. Disagree",0,0]
["e. Strongly disagree.",0,0]
["Totals",{"$f":"SUM(Sheet1!$B$392:$B$396)","v":0.99999997764825821},{"$f":"SUM(Sheet1!$C$392:$C$396)","v":20}]
[]
[]
[]
[]
[]
[]
[]
["24.  I need the sea to provide a future for my family.",null,null,null,null,null,"24.  I need the sea to provide a future for my family."]
[]
[null,"Responses"]
[null,"Percent","Count"]
["a. Strongly agree",0.69999998807907104,14]
["b. Agree",0.15000000596046448,3]
["c. Unsure",0.15000000596046448,3]
["d. Disagree",0,0]
["e. Strongly disagree",0,0]
["Totals",{"$f":"SUM(Sheet1!$B$409:$B$413)","v":1},{"$f":"SUM(Sheet1!$C$409:$C$413)","v":20}]
[]
[]
[]
[]
[]
[]
[]
["25. The sea is not part of our family’s life anymore.",null,null,null,null,null,"25. The sea is not part of our family’s life anymore."]
[]
[null,"Responses"]
[null,"Percent","Count"]
["a. Strongly agree",0.34999999403953552,7]
["b. Agree",5.000000074505806E-2,1]
["c. Unsure",5.000000074505806E-2,1]
["d. Disagree",0.20000000298023224,4]
["e. Strongly disagree",0.34999999403953552,7]
["Totals",{"$f":"SUM(Sheet1!$B$426:$B$430)","v":0.9999999925494194},{"$f":"SUM(Sheet1!$C$426:$C$430)","v":20}]
[]
[]
[]
[]
[]
[]
[]
["26. Our community would be fine without the sea.",null,null,null,null,null,"26. Our community would be fine without the sea."]
[]
[null,"Responses"]
[null,"Percent","Count"]
["a. Strongly agree",0.10000000149011612,2]
["b. Agree",0.10000000149011612,2]
["c. Unsure",5.000000074505806E-2,1]
["d. Disagree",5.000000074505806E-2,1]
["e. Strongly disagree",0.69999998807907104,14]
["Totals",{"$f":"SUM(Sheet1!$B$443:$B$447)","v":0.9999999925494194},{"$f":"SUM(Sheet1!$C$443:$C$447)","v":20}]
[]
[]
[]
[]
[]
[]
[]
["27.  I have had a fun time answering theses questions.",null,null,null,null,null,"27.  I have had a fun time answering theses questions."]
[]
[null,"Responses"]
[null,"Percent","Count"]
["a. Strongly agree",0.94999998807907104,19]
["b. Agree",0,0]
["c. Unsure",5.000000074505806E-2,1]
["d. Disagree",0,0]
["e. Strongly disagree",0,0]
["Totals",{"$f":"SUM(Sheet1!$B$460:$B$464)","v":0.9999999888241291},{"$f":"SUM(Sheet1!$C$460:$C$464)","v":20}]
[]
[]
[]
[]
[]
[]
[]
["28.  More tourists should visit our town.",null,null,null,null,null,"28.  More tourists should visit our town."]
[]
[null,"Responses"]
[null,"Percent","Count"]
["a. Strongly agree",1,20]
["b. Agree",0,0]
["c. Unsure",0,0]
["d. Disagree",0,0]
["e. Strongly disagree",0,0]
["Totals",{"$f":"SUM(Sheet1!$B$477:$B$481)","v":1},{"$f":"SUM(Sheet1!$C$477:$C$481)","v":20}]
[]
[]
[]
[]
[]
[]
[]
["29. Our town needs more options for agriculture (land cultivation and/or animals).",null,null,null,null,null,"29. Our town needs more options for agriculture (land cultivation and/or animals)."]
[]
[null,"Responses"]
[null,"Percent","Count"]
["a. Strongly agree",0.89999997615814209,18]
["b. Agree",5.000000074505806E-2,1]
["c. Unsure",0,0]
["d. Disagree",0,0]
["e. Strongly disagree.",5.000000074505806E-2,1]
["Totals",{"$f":"SUM(Sheet1!$B$494:$B$498)","v":0.99999997764825821},{"$f":"SUM(Sheet1!$C$494:$C$498)","v":20}]
[]
[]
[]
[]
[]
[]
[]
["30. Food, other than seafood, is always available in our town.",null,null,null,null,null,"30. Food, other than seafood, is always available in our town."]
[]
[null,"Responses"]
[null,"Percent","Count"]
["a. Strongly agree",0.44999998807907104,9]
["b. Agree",0.15000000596046448,3]
["c. Unsure",0.10000000149011612,2]
["d. Disagree",0.25,5]
["e. Strongly disagree",5.000000074505806E-2,1]
["Totals",{"$f":"SUM(Sheet1!$B$511:$B$515)","v":0.9999999962747097},{"$f":"SUM(Sheet1!$C$511:$C$515)","v":20}]
[]
[]
[]
[]
[]
[]
[]
["31. Our children have excellent education.",null,null,null,null,null,"31. Our children have excellent education."]
[]
[null,"Responses"]
[null,"Percent","Count"]
["a. Strongly agree",0.20000000298023224,4]
["b. Agree",5.000000074505806E-2,1]
["c. Unsure",0.30000001192092896,6]
["d. Disagree",0.25,5]
["e. Strongly disagree.",0.20000000298023224,4]
["Totals",{"$f":"SUM(Sheet1!$B$528:$B$532)","v":1.0000000186264515},{"$f":"SUM(Sheet1!$C$528:$C$532)","v":20}]
[]
[]
[]
[]
[]
[]
[]
["32. A change that could be made in our town is:",null,null,null,null,null,"32. A change that could be made in our town is:"]
[]
[null,"Responses"]
[null,"Percent","Count"]
["a. Better education",0.25,5]
["b. More fisheries",0.60000002384185791,12]
["c. More tourism",5.000000074505806E-2,1]
["a.     More aquaculture",0.10000000149011612,2]
["e. No change is needed",0,0]
["Totals",{"$f":"SUM(Sheet1!$B$545:$B$549)","v":1.0000000260770321},{"$f":"SUM(Sheet1!$C$545:$C$549)","v":20}]
[]
[]
[]
[]
[]
[]
[]
["33. Do you live in a community that is healthy and happy?",null,null,null,null,null,"33. Do you live in a community that is healthy and happy?"]
[]
[null,"Responses"]
[null,"Percent","Count"]
["a. Strongly agree",0.55000001192092896,11]
["b. Agree",0.10000000149011612,2]
["c. Unsure",0.30000001192092896,6]
["d. Disagree",5.000000074505806E-2,1]
["e. Strongly disagree.",0,0]
["Totals",{"$f":"SUM(Sheet1!$B$562:$B$566)","v":1.0000000260770321},{"$f":"SUM(Sheet1!$C$562:$C$566)","v":20}]
[]
[]
[]
[]
[]
[]
[]
["34. After all these questions, how would your family describe the man telling you about the questions?",null,null,null,null,null,"34. After all these questions, how would your family describe the man telling you about the questions?"]
[]
[null,"Responses"]
[null,"Percent","Count"]
["a. He is happy the questions are over.",0.34999999403953552,7]
["b. He is still too short.",0,0]
["c. He speaks Spanish very good for an American.",0.10000000149011612,2]
["d. He is kind.",0.55000001192092896,11]
["e. He is no longer nervous.",0,0]
["Totals",{"$f":"SUM(Sheet1!$B$579:$B$583)","v":1.0000000074505806},{"$f":"SUM(Sheet1!$C$579:$C$583)","v":20}]